BEGIN:VCALENDAR
PRODID:-//hacksw/handcal//NONSGML v1.0//EN
VERSION:2.0
METHOD:PUBLISH
BEGIN:VEVENT
DTSTART:20211130T180000Z
DTEND:20211130T190000Z
LOCATION:Virtual
UID:2202320211130T180000ZDemystifying post-death administration for charitable beneficiaries
DTSTAMP:20260421T122030Z
DESCRIPTION:\nBeth Kellum is inviting you to a scheduled Zoom meeting.\n \nTopic: Demystifying post-death administration for charitable beneficiaries\n Time: Nov 30, 2021 12:00 PM Central Time (US and Canada)\n \nJoin Zoom Meeting\n https://us05web.zoom.us/j/85338222601?pwd=eHN2UkNLemo4ekNOK254REs1dDRhdz09\n \nMeeting ID: 853 3822 2601\n Passcode: 638068\n One tap mobile\n +19292056099,,85338222601#,,,,*638068# US (New York)\n +13017158592,,85338222601#,,,,*638068# US (Washington DC)\n \nDial by your location\n         +1 929 205 6099 US (New York)\n         +1 301 715 8592 US (Washington DC)\n         +1 312 626 6799 US (Chicago)\n         +1 669 900 6833 US (San Jose)\n         +1 253 215 8782 US (Tacoma)\n         +1 346 248 7799 US (Houston)\n Meeting ID: 853 3822 2601\n Passcode: 638068\n Find your local number: https://us05web.zoom.us/u/lb2N37Q6Yi\n
SUMMARY:Demystifying post-death administration for charitable beneficiaries - Montgomery Estate Planning Council 
PRIORITY:3
BEGIN:VALARM
TRIGGER:PT18H
ACTION:DISPLAY
DESCRIPTION:Reminder
END:VALARM
END:VEVENT
END:VCALENDAR