BEGIN:VCALENDAR
PRODID:-//hacksw/handcal//NONSGML v1.0//EN
VERSION:2.0
METHOD:PUBLISH
BEGIN:VEVENT
DTSTART:20221110T173000Z
DTEND:20221110T190000Z
LOCATION:Montgomery Country Club
UID:2351220221110T173000ZWhich is the Greater Threat to Inheritance – Taxes or the New Spouse?
DTSTAMP:20260421T121847Z
DESCRIPTION:
SUMMARY:Which is the Greater Threat to Inheritance – Taxes or the New Spouse? - Montgomery Estate Planning Council 
PRIORITY:3
BEGIN:VALARM
TRIGGER:PT18H
ACTION:DISPLAY
DESCRIPTION:Reminder
END:VALARM
END:VEVENT
END:VCALENDAR