BEGIN:VCALENDAR
PRODID:-//hacksw/handcal//NONSGML v1.0//EN
VERSION:2.0
METHOD:PUBLISH
BEGIN:VEVENT
DTSTART:20230131T173000Z
DTEND:20230131T190000Z
LOCATION:Montgomery Country Club
UID:2390320230131T173000ZSecure Act 2.0
DTSTAMP:20260421T115922Z
DESCRIPTION:
SUMMARY:Secure Act 2.0 - Montgomery Estate Planning Council 
PRIORITY:3
BEGIN:VALARM
TRIGGER:PT18H
ACTION:DISPLAY
DESCRIPTION:Reminder
END:VALARM
END:VEVENT
END:VCALENDAR