BEGIN:VCALENDAR
PRODID:-//hacksw/handcal//NONSGML v1.0//EN
VERSION:2.0
METHOD:PUBLISH
BEGIN:VEVENT
DTSTART:20230223T173000Z
DTEND:20230223T190000Z
LOCATION:Montgomery Country Club
UID:2396720230223T173000ZAlabama Qualified Dispositions in Trust Act
DTSTAMP:20260421T120207Z
DESCRIPTION:
SUMMARY:Alabama Qualified Dispositions in Trust Act - Montgomery Estate Planning Council 
PRIORITY:3
BEGIN:VALARM
TRIGGER:PT18H
ACTION:DISPLAY
DESCRIPTION:Reminder
END:VALARM
END:VEVENT
END:VCALENDAR