BEGIN:VCALENDAR
PRODID:-//hacksw/handcal//NONSGML v1.0//EN
VERSION:2.0
METHOD:PUBLISH
BEGIN:VEVENT
DTSTART:20230502T163000Z
DTEND:20230502T180000Z
LOCATION:Montgomery Country Club
UID:2423320230502T163000ZTrends in Charitable Giving
DTSTAMP:20260421T120517Z
DESCRIPTION:
SUMMARY:Trends in Charitable Giving - Montgomery Estate Planning Council 
PRIORITY:3
BEGIN:VALARM
TRIGGER:PT18H
ACTION:DISPLAY
DESCRIPTION:Reminder
END:VALARM
END:VEVENT
END:VCALENDAR