BEGIN:VCALENDAR
PRODID:-//hacksw/handcal//NONSGML v1.0//EN
VERSION:2.0
METHOD:PUBLISH
BEGIN:VEVENT
DTSTART:20231114T173000Z
DTEND:20231114T190000Z
LOCATION:Wynlakes Country Club
UID:2526920231114T173000ZJudge J. C. Love
DTSTAMP:20260421T120020Z
DESCRIPTION:
SUMMARY:Judge J. C. Love - Montgomery Estate Planning Council 
PRIORITY:3
BEGIN:VALARM
TRIGGER:PT18H
ACTION:DISPLAY
DESCRIPTION:Reminder
END:VALARM
END:VEVENT
END:VCALENDAR