BEGIN:VCALENDAR
PRODID:-//hacksw/handcal//NONSGML v1.0//EN
VERSION:2.0
METHOD:PUBLISH
BEGIN:VEVENT
DTSTART:20240214T173000Z
DTEND:20240214T190000Z
LOCATION:Montgomery Country Club
UID:2558820240214T173000ZCurrent events and topics within the SSA
DTSTAMP:20260421T120403Z
DESCRIPTION:\nPlease join us at our next meeting in February.  Mr. McKinney is with our locat Social Security Administration office.\n \nRemember to invite a prospective member!\n
SUMMARY:Current events and topics within the SSA - Montgomery Estate Planning Council 
PRIORITY:3
BEGIN:VALARM
TRIGGER:PT18H
ACTION:DISPLAY
DESCRIPTION:Reminder
END:VALARM
END:VEVENT
END:VCALENDAR