BEGIN:VCALENDAR
PRODID:-//hacksw/handcal//NONSGML v1.0//EN
VERSION:2.0
METHOD:PUBLISH
BEGIN:VEVENT
DTSTART:20240501T163000Z
DTEND:20240501T180000Z
LOCATION:Montgomery Country Club
UID:2571820240501T163000ZNext meeting - Wednesday, May 1st
DTSTAMP:20260421T120858Z
DESCRIPTION:\nCarrie Banks is a resource consultant who focuses on connecting people and resources, crafting compelling narratives, and offering guidance in branding, strategic planning and leadership development.  Prior to her retirement in 2022, she served as the communications director for the Alabama League of Municipalities.\n \nThe title of her presentation on May 1st is Challenges and Opportunities - an Intentional Conversation about our Future.\n \n \n
SUMMARY:Next meeting - Wednesday, May 1st - Montgomery Estate Planning Council 
PRIORITY:3
BEGIN:VALARM
TRIGGER:PT18H
ACTION:DISPLAY
DESCRIPTION:Reminder
END:VALARM
END:VEVENT
END:VCALENDAR