BEGIN:VCALENDAR
PRODID:-//hacksw/handcal//NONSGML v1.0//EN
VERSION:2.0
METHOD:PUBLISH
BEGIN:VEVENT
DTSTART:20250424T163000Z
DTEND:20250424T180000Z
LOCATION:Montgomery Country Club
UID:2756820250424T163000ZMark your calendars and reserve your spot!
DTSTAMP:20260421T120927Z
DESCRIPTION:\nBe sure to join us for our last regular meeting of the 2024-2025 fiscal year!  Burton Crenshaw with Central Alabama Community Foundation will be our guest speaker.  \n \nPlease RSVP by April 17th.\n \nLooking forward to seeing everyone there.\n
SUMMARY:Mark your calendars and reserve your spot! - Montgomery Estate Planning Council 
PRIORITY:3
BEGIN:VALARM
TRIGGER:PT18H
ACTION:DISPLAY
DESCRIPTION:Reminder
END:VALARM
END:VEVENT
END:VCALENDAR