BEGIN:VCALENDAR
PRODID:-//hacksw/handcal//NONSGML v1.0//EN
VERSION:2.0
METHOD:PUBLISH
BEGIN:VEVENT
DTSTART:20250506T220000Z
DTEND:20250507T000000Z
LOCATION:Tipping Point @ Hampstead
UID:2756920250506T220000ZMEPC End of Year Social
DTSTAMP:20260421T120055Z
DESCRIPTION:\nJoin us at our end of year social event at the Tipping Point.  Time to relax and visit with other members as you enjoy drinks and appetizers.\n \nPlease RSVP by May 2nd to ensure we have sufficient food.\n \nSee you there!!\n
SUMMARY:MEPC End of Year Social - Montgomery Estate Planning Council 
PRIORITY:3
BEGIN:VALARM
TRIGGER:PT18H
ACTION:DISPLAY
DESCRIPTION:Reminder
END:VALARM
END:VEVENT
END:VCALENDAR