BEGIN:VCALENDAR
PRODID:-//hacksw/handcal//NONSGML v1.0//EN
VERSION:2.0
METHOD:PUBLISH
BEGIN:VEVENT
DTSTART:20251023T163000Z
DTEND:20251023T180000Z
LOCATION:Montgomery Country Club
UID:2865620251023T163000ZOctober 23, 2025 meeting
DTSTAMP:20260421T121310Z
DESCRIPTION:\nMark your calendar for our first meeting for the 2025-2026 year.  All attendees will be eligible to win a $25 gift card from Dirk's Filet & Vine.\n \nPlease RSVP no later than October 17 so I can give MCC an accurate count for food and room set-up.\n
SUMMARY:October 23, 2025 meeting - Montgomery Estate Planning Council 
PRIORITY:3
BEGIN:VALARM
TRIGGER:PT18H
ACTION:DISPLAY
DESCRIPTION:Reminder
END:VALARM
END:VEVENT
END:VCALENDAR