BEGIN:VCALENDAR
PRODID:-//hacksw/handcal//NONSGML v1.0//EN
VERSION:2.0
METHOD:PUBLISH
BEGIN:VEVENT
DTSTART:20251120T173000Z
DTEND:20251120T190000Z
LOCATION:Montgomery Country Club
UID:2881420251120T173000ZNext meeting - Thursday, November 20th
DTSTAMP:20260421T120733Z
DESCRIPTION:\nJoin us on the 20th for our November meeting.  We will meet again in the main bar at MCC.\n \nPlease RSVP if you will be attending by Friday, November 14th so that I can give MCC a head count.  I realize things come up at the last minute that cannot be helped but if you make a reservation to attend, we pay for your spot if you are a "no show".  You are welcome to send someone in your place.  Just let me know if that is the case.\n \nAll attendees are eligible to win a $25 gift card from Filet & Vine.\n \nLet's have another good crowd to welcome our speaker!  See you on the 20th.\n \nRita Brown, Council Administrator\n
SUMMARY:Next meeting - Thursday, November 20th - Montgomery Estate Planning Council 
PRIORITY:3
BEGIN:VALARM
TRIGGER:PT18H
ACTION:DISPLAY
DESCRIPTION:Reminder
END:VALARM
END:VEVENT
END:VCALENDAR