BEGIN:VCALENDAR
PRODID:-//hacksw/handcal//NONSGML v1.0//EN
VERSION:2.0
METHOD:PUBLISH
BEGIN:VEVENT
DTSTART:20260122T173000Z
DTEND:20260122T190000Z
LOCATION:Montgomery Country Club
UID:2900620260122T173000ZJanuary meeting 
DTSTAMP:20260421T120800Z
DESCRIPTION:\nMark your calendars to attend our first meeting of the new year.  We will meet in the main bar like we did in the fall.\n \nAll attendees will be eligible to win a $25 gift card from Filet & Vine.  Katie Mitchell was our lucky winner at the November meeting.\n \n \n \nRemember to RSVP by Friday, January 16th if you plan on attending so I can give MCC an accurate head count for food and room set up.  We pay for the number that I give them on Friday so if you registered to attend and find that you cannot, have someone from you office attend in your place.  We welcome guests especially prospective members but please let me know that information as well so I can include them in the head count.\n
SUMMARY:January meeting  - Montgomery Estate Planning Council 
PRIORITY:3
BEGIN:VALARM
TRIGGER:PT18H
ACTION:DISPLAY
DESCRIPTION:Reminder
END:VALARM
END:VEVENT
END:VCALENDAR