BEGIN:VCALENDAR
PRODID:-//hacksw/handcal//NONSGML v1.0//EN
VERSION:2.0
METHOD:PUBLISH
BEGIN:VEVENT
DTSTART:20260226T173000Z
DTEND:20260226T190000Z
LOCATION:Montgomery Country Club
UID:2922120260226T173000ZFebruary 26, 2026 meeting
DTSTAMP:20260421T122543Z
DESCRIPTION:\nPlease make your reservation to join us for our February meeting.  Bradshaw Tyson is vice president of external affairs with the Business Council of Alabama and will be giving us an update on the current legislative session.\n \nIf you plan on attending, I need your RSVP by noon on Friday, February 20th.  \n \nHenry Moore does an ourtstanding job getting speakers for our meetings so let's have a good attendance to support our speaker and Henry.\n \nLook forward to seeing you there.\n \nRita Brown, Council Administrator\n
SUMMARY:February 26, 2026 meeting - Montgomery Estate Planning Council 
PRIORITY:3
BEGIN:VALARM
TRIGGER:PT18H
ACTION:DISPLAY
DESCRIPTION:Reminder
END:VALARM
END:VEVENT
END:VCALENDAR