BEGIN:VCALENDAR
PRODID:-//hacksw/handcal//NONSGML v1.0//EN
VERSION:2.0
METHOD:PUBLISH
BEGIN:VEVENT
DTSTART:20260521T220000Z
DTEND:20260522T000000Z
LOCATION:Alabama Shakespeare Festival
UID:2948420260521T220000ZYear End Social
DTSTAMP:20260424T192542Z
DESCRIPTION:\nYou and one guest (prospective member or significant other) are invited to attend our year end social in the Patron's Room at Shakespeare.  Jennie Weller will be catering the event.\n \nAs an added bonus, two sessions of a backstage tour will be available on a first come, first serve basis.  Each session can accommodate 15 participants.\n \nWe have to turn in a head count to Jennie Weller by May 11th so that is the deadline to RSVP.\n \nWhen sending your RSVP, if you are bringing a guest, be sure to "add another attendee".\n \nTo register for the backstage tour, enter that request in the "special request" box and the # for the tour (i.e. both you and your guest).\n \nI will let members know when we reach our capacity on the backstage tours.\n \n \n \nAlso, we still need members to serve as officers for the coming fiscal year.  Contact Christine Cook or me if you would like to serve in one of the open spots or would like more information regarding the position.\n \n \n \n \n
SUMMARY:Year End Social - Montgomery Estate Planning Council 
PRIORITY:3
BEGIN:VALARM
TRIGGER:PT18H
ACTION:DISPLAY
DESCRIPTION:Reminder
END:VALARM
END:VEVENT
END:VCALENDAR